BEGIN:VCALENDAR
VERSION:2.0
PRODID:-//AgAID Institute - ECPv6.15.20//NONSGML v1.0//EN
CALSCALE:GREGORIAN
METHOD:PUBLISH
X-WR-CALNAME:AgAID Institute
X-ORIGINAL-URL:https://agaid.org
X-WR-CALDESC:Events for AgAID Institute
REFRESH-INTERVAL;VALUE=DURATION:PT1H
X-Robots-Tag:noindex
X-PUBLISHED-TTL:PT1H
BEGIN:VTIMEZONE
TZID:UTC
BEGIN:STANDARD
TZOFFSETFROM:+0000
TZOFFSETTO:+0000
TZNAME:UTC
DTSTART:20220101T000000
END:STANDARD
END:VTIMEZONE
BEGIN:VTIMEZONE
TZID:Asia/Kolkata
BEGIN:STANDARD
TZOFFSETFROM:+0530
TZOFFSETTO:+0530
TZNAME:IST
DTSTART:20220101T000000
END:STANDARD
END:VTIMEZONE
BEGIN:VEVENT
DTSTART;TZID=UTC:20231023T090000
DTEND;TZID=UTC:20231026T130000
DTSTAMP:20260421T082105
CREATED:20230821T225820Z
LAST-MODIFIED:20230821T225916Z
UID:23322-1698051600-1698325200@agaid.org
SUMMARY:SAIL 2023 – Summit for AI Institutes Leadership
DESCRIPTION:The annual SAIL summit allows significant interactions\, discussions\, and connections among institutes’ researchers and staff. All institute collaborators will benefit by bringing key leadership at primary and sub-awardee sites and providing opportunities to showcase their research\, make connections\, ask questions\, and share best practices and concerns. The 25 AI institutes\, primarily funded by the NSF and USDA-NIFA\, carry out a broad spectrum of research in critically important areas of US competitiveness\, ranging from food security\, public safety\, education\, weather\, and myriad other targets.\nThe SAIL Summit is one of many current and future manifestations of AIVO – the AI Institutes Virtual Organization. The AIVO will have as its host portal the website https://www.aiinstitutes.org. AIVO continues to develop beyond a website and the intranet portal. It will be how we can\, as a community\, make ourselves known to the public and to each other and improve as a group. Before and after the SAIL summits\, there will be the AIVO portal and the virtual organization of the 25 diverse institutes it represents and benefits.
URL:https://agaid.org/event/sail-2023/
LOCATION:Georgia Tech Hotel And Conference Center\, 800 Spring St NW\, Atlanta\, 30308\, United States
CATEGORIES:Summit
ATTACH;FMTTYPE=image/png:https://agaid.org/wp-content/uploads/2023/08/SAIL-2023.png
END:VEVENT
BEGIN:VEVENT
DTSTART;TZID=UTC:20231116T080000
DTEND;TZID=UTC:20231117T130000
DTSTAMP:20260421T082105
CREATED:20231114T201927Z
LAST-MODIFIED:20231114T205110Z
UID:23792-1700121600-1700226000@agaid.org
SUMMARY:2023 WSGS Annual Meeting and Trade Show
DESCRIPTION:The mission of the Washington State Grape Society is to promote overall advancement of the grape industry in Washington State. Its duties include collecting and distributing valuable data and information to our members and stimulating the grape interest in the state. WSGS also serves our members by protecting their legislative interests. Members are growers and industry personnel who have an interest in and lend their assistance to promoting the organization’s purpose. \nAgAID will be presenting on Friday\, November 17th about AI in Agriculture and the Lessons on Developing a Sensor Network in Grapes. \nYou can register here
URL:https://agaid.org/event/2023-wsgs-annual-meeting-and-trade-show/
LOCATION:Church of the Nazarene\, 500 N. Elm\, Grandview\, WA\, 98930\, United States
CATEGORIES:Conference
ATTACH;FMTTYPE=image/jpeg:https://agaid.org/wp-content/uploads/2023/11/WSGS2.jpeg
END:VEVENT
BEGIN:VEVENT
DTSTART;TZID=UTC:20231130T090000
DTEND;TZID=UTC:20231130T123000
DTSTAMP:20260421T082105
CREATED:20231127T202719Z
LAST-MODIFIED:20231127T203121Z
UID:23809-1701334800-1701347400@agaid.org
SUMMARY:Washington Tree Fruit Research Commission 2023 Annual Technology Research Review
DESCRIPTION:The 2024 Technology Research Review will be held November 30\, 2023\, at the Confluence Technology Center in Wenatchee. Doors open at 9am. \nThis hybrid event will feature continuing research project reports on automated apple harvester\, soil and plant diagnostics for nutrient management\, RDI on apple growth and color development and more! Final reports will be presented on modeling orchard effects on meteorological measurements\, decision support tools for precision orchard management\, and the Next Fruit 4.0 project. \nFor more information or questions\, contact Paige Beuhler paigeb@treefruitresearch.com 
URL:https://agaid.org/event/wtfrc-techbology-research-review/
LOCATION:Confluence Technology Center\, 285 Technology Center Way #102\, Wenatchee\, 98801\, United States
CATEGORIES:Research Review
ATTACH;FMTTYPE=image/png:https://agaid.org/wp-content/uploads/2023/11/Agenda.png
END:VEVENT
BEGIN:VEVENT
DTSTART;TZID=UTC:20231204T080000
DTEND;TZID=UTC:20231206T130000
DTSTAMP:20260421T082105
CREATED:20231114T203812Z
LAST-MODIFIED:20231114T203812Z
UID:23798-1701676800-1701867600@agaid.org
SUMMARY:Washington State Tree Fruit Association 2023 Annual Meeting & NW Hort Expo
DESCRIPTION:The Washington State Tree Fruit Association (WSTFA) will host the 119th Annual Meeting Presented by Orchard Robotics and NW Hort Expo at the Three Rivers Convention Convention Center in Kennewick\, WA on December 4th \, 5th\, & 6th 2023.  The Annual Meeting Presented by Orchard Robotics will continue the tradition of hosting the largest tree fruit educational gathering in the country. \nThe three-day event serves as a forum to discuss the latest trends and hot topics within the tree fruit industry. \nOn December 5th\, our Director – Ananth Kalyanaraman\, will be presenting updates on the work that AgAID has been doing. \nYou can register here
URL:https://agaid.org/event/washington-state-tree-fruit-association-2023-annual-meeting-nw-hort-expo/
LOCATION:Three Rivers Convention Center\, 7016 W Grandridge Blvd.\, Kennewick\, 99336\, United States
CATEGORIES:Conference
ATTACH;FMTTYPE=image/jpeg:https://agaid.org/wp-content/uploads/2023/11/Washington-State-Tree-Fruit-Association.jpg
END:VEVENT
BEGIN:VEVENT
DTSTART;VALUE=DATE:20231218
DTEND;VALUE=DATE:20231222
DTSTAMP:20260421T082105
CREATED:20231218T194458Z
LAST-MODIFIED:20231218T194731Z
UID:24128-1702857600-1703203199@agaid.org
SUMMARY:Workshop on US-India Research Initiatives and Opportunities in Digital Agriculture
DESCRIPTION:HiPC 2023 Technical Program\n\n\n\n\n30th IEEE INTERNATIONAL CONFERENCE ON HIGH PERFORMANCE COMPUTING\, DATA\, & ANALYTICS\n\n\nThis US-India Collaboration in Digital Ag Workshop/BOF Session is a full day\, in-person workshop at the HiPC Conference in Goa\, India on Monday December 18\, 2023. The day will feature several invited talks\, an industry session\, breakout group discussions\, and a panel\, with participants from US and Indian academia\, government\, and industry sectors. This workshop follows a successful Birds of a Feather session at HiPC’22. \nGoals: \n\nIdentify major areas and specific topics where AI and data science technologies can help within the Indian agriculture ecosystem\nIdentify new opportunities to set up R&D initiatives toward a stronger U.S.-India R&D collaboration in digital agriculture\n\nThe workshop will cover several topics in digital agriculture including (but not limited to) precision agriculture\, ag robotics\, climate impacts on agriculture and resource management\, geospatial informatics\, optimization in food supply chain\, accessible/affordable technologies\, data sharing policies\, workforce training\, and AI literacy. The event is open to all registered attendees at HiPC. \nLearn more at: IEEE HiPC 2023 or  IEEE HiPC Digital Agriculture 2023
URL:https://agaid.org/event/hipc-workshop-on-us-india-collaborative-in-digital-agriculture-2023/
LOCATION:Novotel Goa Dona Sylvia Cavelossim Beach\, Cavelossim\, Goa\, India
CATEGORIES:Conference,Workshop
ATTACH;FMTTYPE=image/png:https://agaid.org/wp-content/uploads/2022/12/HiPC-2022.png
END:VEVENT
BEGIN:VEVENT
DTSTART;TZID=UTC:20231218T153000
DTEND;TZID=UTC:20231218T173000
DTSTAMP:20260421T082105
CREATED:20231218T201643Z
LAST-MODIFIED:20231218T201810Z
UID:24133-1702913400-1702920600@agaid.org
SUMMARY:Washington Friends of Farms and Forests Annual Meeting 2023
DESCRIPTION:Washington Friends of Farms & Forests supports producers of food and fiber by working to ensure a science-based regulatory system in Washington State\n\n\n\nWe work for greater public understanding of the challenges faced by producers of food and fiber. Our membership is made up of farmers\, timber producers\, nursery owners\, landscapers and others who promote the responsible stewardship of \nWashington’s land\, air and water.\n\n\n\nPlease join WA Friends members at the Annual Meeting followed by the Holiday Party in Olympia on TODAY–December 18 starting at 3:30 pm. The Holiday Party will start at 5:30pm at Anthonys Homeport immediately following the Annual Meeting. We have a great agenda this year including two fascinating presentations and a legislative preview for the legislative session.\n\nDo you want to become a member? Register here
URL:https://agaid.org/event/washington-friends-of-farms-and-forests-annual-meeting-2023/
LOCATION:Double Tree Hotel\, 415 Capitol Way N\, Olympia\, WA\, United States
CATEGORIES:Annual Meeting
ATTACH;FMTTYPE=image/png:https://agaid.org/wp-content/uploads/2023/12/Screenshot-2023-12-18-at-12.13.22 PM.png
END:VEVENT
BEGIN:VEVENT
DTSTART;TZID=UTC:20240726T083000
DTEND;TZID=UTC:20240726T120000
DTSTAMP:20260421T082105
CREATED:20240703T022924Z
LAST-MODIFIED:20240703T022924Z
UID:24392-1721982600-1721995200@agaid.org
SUMMARY:WSU Smart Orchard Field Tour
DESCRIPTION:🗣️Join us to continue learning about on-the-market as well as commercialization ready orchard automation and precision input management technologies at our grower cooperator (Northwest Farm Management LLC) managed WSU Smart Apple Orchard technology testbed in Mattawa\, WA. This year\, we will showcase technologies from over 20 vendors focused on: \n\nIrrigation and Heat Stress Automation\nBee Monitoring for Optimal Hive Placement\nBlossom Mapping\nVigor and Crop Load/Yield Monitoring (& Spatial Mapping)\nEcosystem for Multi-modal Data Integration/visualization & Prescriptive Task mapping\nAutonomous/Precision Spraying\, Nutrient Management\, and Electric Weeding\n\nThis event is an excellent opportunity for growers and agricultural professionals to learn about the latest technologies and data-driven approaches to orchard management. The testbed is funded by the Washington Tree Fruit Research commission and is a joint effort between WSU faculty\, Grower Cooperator (NWFM LLC)\, and Ag-Tech Industry Partners. 🍇🍎🍒 🫐 \nRegister at: https://treefruit.wsu.edu/event/smart-orchard-agaid-field-day \nSee you there!
URL:https://agaid.org/event/wsu-smart-orchard-field-tour/
LOCATION:WSU Smart Apple Orchard technology testbed in Mattawa\, WA\, WA\, United States
CATEGORIES:Field Days
ATTACH;FMTTYPE=image/jpeg:https://agaid.org/wp-content/uploads/2024/07/WSUSmartOrchard2024.jpg
END:VEVENT
BEGIN:VEVENT
DTSTART;TZID=UTC:20250426T100000
DTEND;TZID=UTC:20250426T150000
DTSTAMP:20260421T082105
CREATED:20250418T192842Z
LAST-MODIFIED:20250418T192842Z
UID:24933-1745661600-1745679600@agaid.org
SUMMARY:Earth Day Celebration
DESCRIPTION:🌎 Join AgAID Institute at the Earth Day Celebration! \nWe invite you to stop by the AgAID Institute table at the upcoming Earth Day Celebration hosted by the Gates Foundation. \n👉 At AgAID\, we are dedicated to advancing sustainable agriculture through cutting-edge research and innovation. Our mission includes fostering partnerships between AI and agricultural communities to create a transdisciplinary ecosystem for technology innovation and knowledge transfer. \n🌟 During the event\, we’ll share insights into our projects and discuss opportunities for collaboration in AgTech\, education\, and extension. Engaging with educators\, students\, and community members is essential to promote environmental literacy and inspire the next generation of innovators.​ \n🌎 The Earth Day Celebration offers a unique opportunity to connect with organizations dedicated to creating a healthier future. All ages are welcome\, and admission is FREE!​ \n💫 JOIN US:\n📅 Date: Saturday\, April 26\, 2025\n⏰ Time: 10:00 AM – 3:00 PM PST\n📍 Location: Gates Foundation Discovery Center\, 440 Fifth Ave. N.\, Seattle\, WA 98109​\n🔗 Learn More & RSVP: gates.ly/4i1mTim \nWe look forward to seeing you there and exploring ways we can collaborate to promote sustainable agriculture and environmental education. \n#EarthDay #AI4Ag #AgTech #SustainableFarmingPractices #DataDrivenDecisionMaking
URL:https://agaid.org/event/earth_day_celebration/
LOCATION:Gates Foundation Discovery Center\, 440 Fifth Ave. N.\, Seattle\, WA\, 98109​\, United States
CATEGORIES:Day Celebration
ATTACH;FMTTYPE=image/png:https://agaid.org/wp-content/uploads/2025/04/Earth-Day-Discovery-Center-4x5-1.png
END:VEVENT
BEGIN:VEVENT
DTSTART;TZID=UTC:20250601T080000
DTEND;TZID=UTC:20250805T170000
DTSTAMP:20260421T082105
CREATED:20250505T221845Z
LAST-MODIFIED:20250505T221954Z
UID:24960-1748764800-1754413200@agaid.org
SUMMARY:10th International Cherry Symposium
DESCRIPTION:🍒 Join the Global Cherry Community in 2025! 🍒 \n🌸 We would like to invite researchers\, growers\, industry leaders\, and cherry enthusiasts from around the world to the International Society for Horticultural Science (ISHS) Cherry Symposium\, happening June 1–5\, 2025\, in Richland\, Washington\, USA! \nThis is your opportunity to:\n🌍 Hear from international experts with 60 oral and 36 poster presentations\n🌱 Explore the latest innovations in sweet cherry cultivation\n🤝 Build new collaborations and reconnect with old friends\n🚜 Tour cutting-edge commercial orchards across Washington State\n🍷 Wrap it all up with a social hour to celebrate! \n👉 Organized by Dr. Matthew Whiting (Washington State University) under the International Society for Horticultural Science (ISHS) Division Temperate Tree Fruits & Working Group Cherry Production\, this event promises a dynamic blend of science\, field experience\, and community. \n🗓 Register by May 15 at the official Cherry Symposium website https://www.xishscherrysymposium.com/ \n#CherrySymposium2025 #Horticulture #SweetCherries #ISHS #TreeFruit #AgScience #CherryResearch #NetworkingOpportunity
URL:https://agaid.org/event/10th-international-cherry-symposium/
LOCATION:Holiday Inn Richland on the River\, 802 George Washington Way\, Richland\, WA\, 99352\, United States
CATEGORIES:Field Days,Symposium
ATTACH;FMTTYPE=image/jpeg:https://agaid.org/wp-content/uploads/2025/05/CherrySymposium.jpg
END:VEVENT
BEGIN:VEVENT
DTSTART;TZID=UTC:20250725T080000
DTEND;TZID=UTC:20250725T130000
DTSTAMP:20260421T082105
CREATED:20250508T035338Z
LAST-MODIFIED:20250508T040330Z
UID:24970-1753430400-1753448400@agaid.org
SUMMARY:Smart Apple Orchard Field Day 1: Precision & Automated Irrigation Systems
DESCRIPTION:🌳 Join Us in the Orchard! \n🍎 Whether you’re an orchardist\, researcher\, innovator\, or AgTech enthusiast\, we are excited to invite you to the Smart Apple Orchard Field Day 1: Precision & Automated Irrigation Systems. \n📅 When: July 25\, 8:30am – 1:00pm PST\n📍 Where: 16518 Road 26 SW\, Mattawa WA\n🔧 Learn how advanced irrigation technologies are transforming orchard management — saving water\, improving yields\, and enhancing sustainability.\n💡 This is your chance to connect\, learn\, and see innovations in action. \n👉 Register today: https://smartorchard.wsu.edu/ \n\n\nWashington Tree Fruit Research Commission\nWSU College of Agricultural\, Human\, and Natural Resource Sciences\ninnov8.ag\nColumbia Farm Services#AgTech #SmartFarming #OrchardInnovation #SustainableAg #IrrigationTech #FieldDay2025 #AppleOrchards #PrecisionAgriculture
URL:https://agaid.org/event/smart-apple-orchard-field-day-1/
LOCATION:WSU Smart Apple Orchard Location 1\, 16518 Road 26SW\, Mattawa\, WA\, 99349\, United States
CATEGORIES:Field Days
ATTACH;FMTTYPE=image/jpeg:https://agaid.org/wp-content/uploads/2025/05/Smart-Orchard-Field-Day-1.jpg
END:VEVENT
BEGIN:VEVENT
DTSTART;TZID=UTC:20250801T083000
DTEND;TZID=UTC:20250801T130000
DTSTAMP:20260421T082105
CREATED:20250508T040254Z
LAST-MODIFIED:20250508T041207Z
UID:24978-1754037000-1754053200@agaid.org
SUMMARY:Smart Apple Orchard Field Day 2: Precision Crop Management & Automation Technologies
DESCRIPTION:🍏 You’re Invited! \n🚜 Join us for Smart Apple Orchard Field Day 2: Precision Crop Management & Automation Technologies — a hands-on event showcasing cutting-edge tools and systems driving the future of orchard farming. \n📅 When: July 25\, 8:30am – 1:00pm PST \n📍 Where: 99-57 Lamb Rd\, Zillah WA \n🔍 Discover how automation and precision crop management are revolutionizing the apple industry — from real-time data insights to autonomous field operations. \n💡 This is your opportunity to see innovative solutions in action and connect with industry leaders. \n👉 Register today: https://smartorchard.wsu.edu/ \n\n\nWashington Tree Fruit Research Commission\nWSU College of Agricultural\, Human\, and Natural Resource Sciences\ninnov8.ag\nNWFM\, LLC\n\n#AgTech #SmartFarming #OrchardInnovation #SustainableAg #IrrigationTech #FieldDay2025 #AppleOrchards #PrecisionAgriculture
URL:https://agaid.org/event/smart-apple-orchard-field-day-2-precision-crop-management-automation-technologies/
LOCATION:WSU Smart Apple Orchard Location 2\, 99-57 Lamb Rd.\, Zillah\, Washington\, 98953\, United States
CATEGORIES:Field Days
ATTACH;FMTTYPE=image/jpeg:https://agaid.org/wp-content/uploads/2025/05/Smart-Orchard-Field-Day-2.jpg
END:VEVENT
BEGIN:VEVENT
DTSTART;TZID=UTC:20260112T120000
DTEND;TZID=UTC:20260112T130000
DTSTAMP:20260421T082105
CREATED:20251217T024558Z
LAST-MODIFIED:20251218T201526Z
UID:25125-1768219200-1768222800@agaid.org
SUMMARY:Growing with AI:  Washington's Agricultural Future
DESCRIPTION:Join the Washington State Academy of Sciences for an engaging 6-part webinar series exploring how artificial intelligence can transform agriculture in Washington State. \nAs our producers face unprecedented challenges—from climate volatility to labor shortages—AI offers powerful new tools to enhance resilience\, optimize resources\, and secure our agricultural future. This free series brings together leading researchers\, innovative farmers\, AI developers\, and key policymakers to explore real-world applications and future possibilities. \n\nFirst Webinar – Artificial Intelligence: What it can do\, where it is going\, and key opportunities for agriculture\n\n\nJanuary 12\, 2026\, 12-1pm PST \nLearn AI basics\, how agriculture drives AI innovation\, and how AI is reshaping farming from reactive to proactive operations. \nSpeakers: \n\n\nOren Etzioni\, Technical Director\, AI2 Incubator; Professor Emeritus\, University of Washington\nAnanth Kalyanaraman\, Professor and Director\, School of Electrical Engineering and Computer Science\, Washington State University; Director\, NSF-USDA NIFA AgAID AI Institute
URL:https://agaid.org/event/growing-with-ai-washingtons-agricultural-future/
LOCATION:Virtual\, WA\, 99350\, United States
CATEGORIES:Webinars
ATTACH;FMTTYPE=image/jpeg:https://agaid.org/wp-content/uploads/2025/12/WSS.jpg
END:VEVENT
BEGIN:VEVENT
DTSTART;TZID=UTC:20260201T120000
DTEND;TZID=UTC:20270201T130000
DTSTAMP:20260421T082105
CREATED:20260206T054337Z
LAST-MODIFIED:20260206T054654Z
UID:25156-1769947200-1801486800@agaid.org
SUMMARY:An Online Toolbox for Understanding and Communicating AI in Sustainable Agriculture
DESCRIPTION:The WSU Center for Sustaining Agriculture and Natural Resources (CSANR) has launched a new online training series: Understanding and Communicating AI in Sustainable Agriculture. \nIf you are an agricultural professional looking to lead conversations about AI and agriculture with confidence\, this course was built for you. \n\n📽️ Format: 11 free\, self-guided\, asynchronous video lectures.\n⏱️ Duration: Approximately 2.5 hours total.\n🎓 Credit: .3 CEUs available through WSU.\n🛠️ Outcome: A foundational toolbox for discussing AI risks\, ethics\, and adoption.\n\nBuild your confidence in addressing AI-related discussions in agriculture today. \n🔗 Get started here: https://csanr.wsu.edu/resources/ai-literacy-toolbox/ \n#AgTech #SustainableAgriculture #ProfessionalDevelopment #AI #AgExtension #WSU
URL:https://agaid.org/event/online-course-communicating-ai-in-ag/
LOCATION:Virtual\, WA\, 99350\, United States
ATTACH;FMTTYPE=image/png:https://agaid.org/wp-content/uploads/2026/02/Screenshot-2026-02-05-at-9.42.29-PM.png
END:VEVENT
END:VCALENDAR